BEGIN:VCALENDAR
PRODID:digital.georgia.gov
VERSION:2.0
CALSCALE:GREGORIAN
BEGIN:VEVENT
UID:0e7825cee73b75237ee22992b0bc950d
DTSTAMP:20260422T123207Z
SUMMARY:GOVTalks: Summer 2026
DESCRIPTION:We're excited to gather with you to discuss building stronger 
 connections between state organizations and the people we serve\, includin
 g topics on:Digital accessibility compliance extension and how we can cont
 inue working together to meet the requirements\, andOptimizing how we use 
 GovHub to build trust and ensure AI readiness.
URL:https://digital.georgia.gov/events/2026-06-11/govtalks-summer-2026
DTSTART;VALUE=DATE:20260611
DTEND;VALUE=DATE:20260612
LOCATION:47 Trinity Avenue SW  Atlanta\, GA 30334 US
X-LIC-LOCATION:America/New_York
X-WR-TIMEZONE:America/New_York
END:VEVENT
BEGIN:VTIMEZONE
TZID:America/New_York
END:VTIMEZONE
END:VCALENDAR
